BEGIN:VCALENDAR
VERSION:2.0
PRODID:-//一般社団法人江東すみだ大道芸協会 - ECPv6.15.18//NONSGML v1.0//EN
CALSCALE:GREGORIAN
METHOD:PUBLISH
X-ORIGINAL-URL:https://koto-sumida-daidougei.com
X-WR-CALDESC:一般社団法人江東すみだ大道芸協会 のイベント
REFRESH-INTERVAL;VALUE=DURATION:PT1H
X-Robots-Tag:noindex
X-PUBLISHED-TTL:PT1H
BEGIN:VTIMEZONE
TZID:Asia/Tokyo
BEGIN:STANDARD
TZOFFSETFROM:+0900
TZOFFSETTO:+0900
TZNAME:JST
DTSTART:20210101T000000
END:STANDARD
END:VTIMEZONE
BEGIN:VEVENT
DTSTART;TZID=Asia/Tokyo:20220503T110000
DTEND;TZID=Asia/Tokyo:20220505T180000
DTSTAMP:20260422T013021
CREATED:20220420T070733Z
LAST-MODIFIED:20251124T105317Z
UID:10481-1651575600-1651773600@koto-sumida-daidougei.com
SUMMARY:🎏すみだ鯉のぼりフェア大道芸
DESCRIPTION:全国各地から集まる大道芸人による\n３日間の夢の競演！ \n5/3　出演者\n\nしゅうちょう（ファイヤー＆ローラーバランス）\nGoledenBellySpice/タカダアキコベリーダンスチーム（ベリーダンス）\nto R mansion（マイムシアター）\n3ガガヘッズ（ビジュアルコメディ）\nワンダフルワンダー（マジック）\nじっきぃ・すぱろう（人形振り）\nShiva（水墨画似顔絵屋さん）\n鷹島姫乃（和風ポールダンス）\n\n5/4　出演者\n\nサンキュー手塚（コメディ）\n芸人まこと（THE 大道芸）\nものまる（タップダンスバライティショー）\nPerformer 聖夜（ディアボロ、ジャグリング）\nYUKI（マジック、ローラーバランス）\nShiva（水墨画似顔絵屋さん）\n鷹島姫乃（和風ポールダンス）\n\n5/5　出演者\n\nりずむらいす（リズム＆バラエティーショウ）\n大道芸人ジーニー（コメディ）\nめぐみ梨華（ジャグリング）\n松鶴家天太（コメディー）\nTento（マジック/ジャグリング）\n金魚姫（回遊）\nShiva（水墨画似顔絵屋さん）\n鷹島姫乃（和風ポールダンス）\n\n※出演者・パフォーマンス内容等予告なく変更になる場合がございます。あらかじめご了承ください。 \n  \nボランティア交通誘導スタッフ募集中！\nボランティアスタッフ募集フォームはこちら\n\nノベルティをプレゼントさせて頂きます。\n特に5/4を募集中！\n\n入場無料／芸を楽しんだら、芸人さんにお気持ちを宜しくお願い致します。 \n※大雨などの荒天中止\n\nマスク必ず着用にて、ソーシャルディスタンスを十分に保ちながらご観覧ください。\n場所　白鬚橋上流水辺テラス\n東京都墨田区堤通2-19 付近　桜堤中学校の隅田川側裏\n/東武線東向島駅・鐘ヶ淵駅より徒歩15分/バス　白鬚橋東詰・白鬚橋\n\n\n白鬚橋上流水辺テラスへの行き方\n\n東向島駅を出て、ドトールと100円ローソンの間を進みます。\n\n突きあたりになりました。\nひたすら左に歩くと、明治通りにぶつかります。\n\n明治通りに入ったら右折。白鬚橋を目指します！\n\n\n明治通りを白鬚橋橋に向かってひたすら歩きます。 バス停が出てきました。 \nバス停　白鬚橋東　からいらした方はここで合流です。 \n亀戸や日暮里からは里22\n錦糸町や押上からは錦40 \nでここまでワープできます \n \nまっすぐ歩きます！\nひたすら歩きますが、「明治通り」で「白鬚橋」に向かって歩いていれば正解なのでご安心を\n左手にセブンイレブンや、和食さと・デニーズなどが入った大きなビルが見えてきます。 \n \n大きなビルや白鬚橋が近づいてきました！ 明治通りと墨堤通りが交差していますね。 横断歩道をまっすぐ渡り、 その後右斜め前（右折では無いよ！）を見ます。 \n右斜め前に東白鬚公園の入り口がありますので、そちらへ。 東白鬚公園の入り口を右手に高速道路の高架下へ進みます。 \n \n高架下まで進むとスロープがあります。 そこから隅田川沿いに入っていきます。 \n川沿いに入ったら、右（白鬚橋と反対方向）に進むとそこは、 「白鬚橋上流水辺テラス」 \n \n\n\n\n主催\n江東すみだ大道芸協会\n共催\nすみだカット倶楽部\n問い合わせ\n090-3501-9082（すみだカット倶楽部サカイ）\n\n\n[/cmsmasters_text][/cmsmasters_column][/cmsmasters_row]
URL:https://koto-sumida-daidougei.com/event/22may/
LOCATION:東京都
ATTACH;FMTTYPE=image/jpeg:https://koto-sumida-daidougei.com/wp-content/uploads/2022/04/22may.jpg
END:VEVENT
END:VCALENDAR